BEGIN:VCALENDAR
VERSION:2.0
PRODID:-//wowchildrensmuseum.org//NONSGML kigkonsult.se iCalcreator 2.30.10
 //
CALSCALE:GREGORIAN
METHOD:PUBLISH
UID:8d623c06-912a-4ac3-8eb8-744193860496
X-WR-CALDESC:Join local author Jolene Gutiérrez  as she reads a selection o
 f her books\, including her newest release\, 'Too Much!' at WOW! on August
  10th at 2 pm. Books will be avialable for purchase.\n\nIncluded with Muse
 um Admission or Membership.
X-WR-RELCALID:99f384c78c5a07472f9843b986b057ab
X-WR-TIMEZONE:America/Denver
BEGIN:VTIMEZONE
TZID:America/Denver
BEGIN:STANDARD
TZNAME:MST
DTSTART:20221106T020000
TZOFFSETFROM:-0600
TZOFFSETTO:-0700
RDATE:20231105T020000
RDATE:20241103T020000
END:STANDARD
BEGIN:DAYLIGHT
TZNAME:MDT
DTSTART:20230312T020000
TZOFFSETFROM:-0700
TZOFFSETTO:-0600
RDATE:20240310T020000
END:DAYLIGHT
END:VTIMEZONE
BEGIN:VEVENT
UID:7aa96ebd-3ae7-455c-bb8b-bf1cdc7b146b
DTSTAMP:20260423T092929Z
DESCRIPTION:Join local author Jolene Gutiérrez  as she reads a selection of
  her books\, including her newest release\, 'Too Much!' at WOW! on August 
 10th at 2 pm. Books will be avialable for purchase.\n\nIncluded with Museu
 m Admission or Membership.
DTSTART;TZID=America/Denver:20230810T140000
DTEND;TZID=America/Denver:20230810T150000
LOCATION:
SUMMARY:Storytime w/ Author Jolene Gutiérrez
END:VEVENT
END:VCALENDAR
