BEGIN:VCALENDAR
VERSION:2.0
PRODID:-//wowchildrensmuseum.org//NONSGML kigkonsult.se iCalcreator 2.30.10
 //
CALSCALE:GREGORIAN
METHOD:PUBLISH
UID:5c8416e5-f684-4b39-a39a-8fa57d9894e1
X-WR-CALDESC:To serve the preferences of all of our visitors\, masks will b
 e required of everyone ages 3+ between 9:00am-12:00pm Wednesdays. Masks ar
 e not required the rest of the week.
X-WR-RELCALID:141f24b3083d99dfa0e50bd194da139a
X-WR-TIMEZONE:America/Denver
BEGIN:VTIMEZONE
TZID:America/Denver
BEGIN:STANDARD
TZNAME:MST
DTSTART:20221106T020000
TZOFFSETFROM:-0600
TZOFFSETTO:-0700
RDATE:20231105T020000
RDATE:20241103T020000
END:STANDARD
BEGIN:DAYLIGHT
TZNAME:MDT
DTSTART:20230312T020000
TZOFFSETFROM:-0700
TZOFFSETTO:-0600
RDATE:20240310T020000
END:DAYLIGHT
END:VTIMEZONE
BEGIN:VEVENT
UID:098b30d4-fe70-4d6c-aff8-40ca7118f81c
DTSTAMP:20260423T092126Z
DESCRIPTION:To serve the preferences of all of our visitors\, masks will be
  required of everyone ages 3+ between 9:00am-12:00pm Wednesdays. Masks are
  not required the rest of the week.
DTSTART;TZID=America/Denver:20230802T090000
DTEND;TZID=America/Denver:20230802T120000
LOCATION:
SUMMARY:Masks Required Morning
END:VEVENT
END:VCALENDAR
