BEGIN:VCALENDAR
VERSION:2.0
PRODID:-//wowchildrensmuseum.org//NONSGML kigkonsult.se iCalcreator 2.30.10
 //
CALSCALE:GREGORIAN
METHOD:PUBLISH
UID:9d9ae588-961f-4217-9488-cf51c9e754c0
X-WR-CALDESC:Have a safe and happy Fourth of July!
X-WR-RELCALID:27dfcea38928fbf71f520013e9e0be9a
X-WR-TIMEZONE:America/Denver
BEGIN:VTIMEZONE
TZID:America/Denver
BEGIN:STANDARD
TZNAME:MST
DTSTART:20221106T020000
TZOFFSETFROM:-0600
TZOFFSETTO:-0700
RDATE:20231105T020000
RDATE:20241103T020000
END:STANDARD
BEGIN:DAYLIGHT
TZNAME:MDT
DTSTART:20230312T020000
TZOFFSETFROM:-0700
TZOFFSETTO:-0600
RDATE:20240310T020000
END:DAYLIGHT
END:VTIMEZONE
BEGIN:VEVENT
UID:71595e39-dc6e-47e9-a5a4-b292b7246680
DTSTAMP:20260423T103603Z
DESCRIPTION:Have a safe and happy Fourth of July!
DTSTART;TZID=America/Denver:20230704T000000
DTEND;TZID=America/Denver:20230704T235900
LOCATION:
SUMMARY:Museum Closed
END:VEVENT
END:VCALENDAR
