BEGIN:VCALENDAR
VERSION:2.0
PRODID:-//wowchildrensmuseum.org//NONSGML kigkonsult.se iCalcreator 2.30.10
 //
CALSCALE:GREGORIAN
METHOD:PUBLISH
UID:4d55bb21-eacf-473e-9257-09a57dc5b29a
X-WR-CALDESC:Enrich your summer afternoons with STEAM programming exclusive
 ly for preschoolers and their caregivers! These hour-long classes are open
  to 3-5 year olds and their adults. \n\nThis week--Make a Musical Instrume
 nt!\n\n'My Preschooler & Me' Summer Classes are $17 per child and $15 per 
 member child. Adults are free with child registration. Pre-registration is
  required.
X-WR-RELCALID:0b9b6b4a8d1654ef0df03f96f6379345
X-WR-TIMEZONE:America/Denver
BEGIN:VTIMEZONE
TZID:America/Denver
BEGIN:STANDARD
TZNAME:MST
DTSTART:20221106T020000
TZOFFSETFROM:-0600
TZOFFSETTO:-0700
RDATE:20231105T020000
RDATE:20241103T020000
END:STANDARD
BEGIN:DAYLIGHT
TZNAME:MDT
DTSTART:20230312T020000
TZOFFSETFROM:-0700
TZOFFSETTO:-0600
RDATE:20240310T020000
END:DAYLIGHT
END:VTIMEZONE
BEGIN:VEVENT
UID:50fdc8f9-fad9-45c9-a24e-4fb39831462a
DTSTAMP:20260423T125243Z
DESCRIPTION:Enrich your summer afternoons with STEAM programming exclusivel
 y for preschoolers and their caregivers! These hour-long classes are open 
 to 3-5 year olds and their adults. \n\nThis week--Make a Musical Instrumen
 t!\n\n'My Preschooler & Me' Summer Classes are $17 per child and $15 per m
 ember child. Adults are free with child registration. Pre-registration is 
 required.
DTSTART;TZID=America/Denver:20230629T150000
DTEND;TZID=America/Denver:20230629T160000
LOCATION:
SUMMARY:'My Preschooler & Me' Summer Classes ($)
END:VEVENT
END:VCALENDAR
