BEGIN:VCALENDAR
VERSION:2.0
PRODID:-//wowchildrensmuseum.org//NONSGML kigkonsult.se iCalcreator 2.30.10
 //
CALSCALE:GREGORIAN
METHOD:PUBLISH
UID:8c689030-fd53-497e-a27a-117ba87326d5
X-WR-CALDESC:Enrich your summer afternoons with STEAM programming exclusive
 ly for preschoolers and their caregivers! These hour-long classes are open
  to 3-5 year olds and their adults. \n\nThis week--Bug Dyes & Coffee Filte
 r Flowers! Learn about how natural dyes are made and use them to make your
  own bouquet of summer blossoms to take home.\n\n'My Preschooler & Me' Sum
 mer Classes are $17 per child and $15 per member child. Adults are free wi
 th child registration. Pre-registration is required.
X-WR-RELCALID:069c440ddc3e0e3bdb9edf4450463658
X-WR-TIMEZONE:America/Denver
BEGIN:VTIMEZONE
TZID:America/Denver
BEGIN:STANDARD
TZNAME:MST
DTSTART:20221106T020000
TZOFFSETFROM:-0600
TZOFFSETTO:-0700
RDATE:20231105T020000
RDATE:20241103T020000
END:STANDARD
BEGIN:DAYLIGHT
TZNAME:MDT
DTSTART:20230312T020000
TZOFFSETFROM:-0700
TZOFFSETTO:-0600
RDATE:20240310T020000
END:DAYLIGHT
END:VTIMEZONE
BEGIN:VEVENT
UID:20bd9b2b-c736-407e-8f8e-5cd6732d7ff2
DTSTAMP:20260423T124333Z
DESCRIPTION:Enrich your summer afternoons with STEAM programming exclusivel
 y for preschoolers and their caregivers! These hour-long classes are open 
 to 3-5 year olds and their adults. \n\nThis week--Bug Dyes & Coffee Filter
  Flowers! Learn about how natural dyes are made and use them to make your 
 own bouquet of summer blossoms to take home.\n\n'My Preschooler & Me' Summ
 er Classes are $17 per child and $15 per member child. Adults are free wit
 h child registration. Pre-registration is required.
DTSTART;TZID=America/Denver:20230622T150000
DTEND;TZID=America/Denver:20230622T160000
LOCATION:
SUMMARY:'My Preschooler & Me' Summer Classes ($)
END:VEVENT
END:VCALENDAR
