BEGIN:VCALENDAR
VERSION:2.0
PRODID:-//wowchildrensmuseum.org//NONSGML kigkonsult.se iCalcreator 2.30.10
 //
CALSCALE:GREGORIAN
METHOD:PUBLISH
UID:2f1d0dc2-1287-4f79-b34c-02aaca8d45a9
X-WR-CALDESC:Ages: 5-9\n\nLet your imagination run wild with tens of thousa
 nds of LEGO® parts as we design and build leaping dolphins\, buzzing beehi
 ves\, and towering giraffes. Play\, create\, and learn in a world inspired
  by the animal kingdom. Design and build as never before and explore your 
 craziest ideas.\n\n$165/person - This program is presented by our partner\
 , Play-Well TEKnologies\n
X-WR-RELCALID:3c50e105105b23f21d5720e8e5858a1d
X-WR-TIMEZONE:America/Denver
BEGIN:VTIMEZONE
TZID:America/Denver
BEGIN:STANDARD
TZNAME:MST
DTSTART:20221106T020000
TZOFFSETFROM:-0600
TZOFFSETTO:-0700
RDATE:20231105T020000
RDATE:20241103T020000
END:STANDARD
BEGIN:DAYLIGHT
TZNAME:MDT
DTSTART:20230312T020000
TZOFFSETFROM:-0700
TZOFFSETTO:-0600
RDATE:20240310T020000
END:DAYLIGHT
END:VTIMEZONE
BEGIN:VEVENT
UID:11d704db-2a52-4586-91bc-5515a9f3aa61
DTSTAMP:20260423T124848Z
DESCRIPTION:Ages: 5-9\n\nLet your imagination run wild with tens of thousan
 ds of LEGO® parts as we design and build leaping dolphins\, buzzing beehiv
 es\, and towering giraffes. Play\, create\, and learn in a world inspired 
 by the animal kingdom. Design and build as never before and explore your c
 raziest ideas.\n\n$165/person - This program is presented by our partner\,
  Play-Well TEKnologies\n
DTSTART;TZID=America/Denver:20230620T130000
DTEND;TZID=America/Denver:20230620T160000
LOCATION:Pre-registration required
SUMMARY:Play-Well: Animal Adventures Camp with LEGO® Materials ($)
END:VEVENT
END:VCALENDAR
