BEGIN:VCALENDAR
VERSION:2.0
PRODID:-//wowchildrensmuseum.org//NONSGML kigkonsult.se iCalcreator 2.30.10
 //
CALSCALE:GREGORIAN
METHOD:PUBLISH
UID:52a360d9-27fd-4ff1-a21b-e0360bf356c6
X-WR-CALDESC:Join us a special all ages story time!\n\nIncluded with Museum
  Admission or Membership.
X-WR-RELCALID:7909f13cdb7a3c3c6d337abf95aae764
X-WR-TIMEZONE:America/Denver
BEGIN:VTIMEZONE
TZID:America/Denver
BEGIN:STANDARD
TZNAME:MST
DTSTART:20221106T020000
TZOFFSETFROM:-0600
TZOFFSETTO:-0700
RDATE:20231105T020000
RDATE:20241103T020000
END:STANDARD
BEGIN:DAYLIGHT
TZNAME:MDT
DTSTART:20230312T020000
TZOFFSETFROM:-0700
TZOFFSETTO:-0600
RDATE:20240310T020000
END:DAYLIGHT
END:VTIMEZONE
BEGIN:VEVENT
UID:68816106-f8e5-4121-8650-7ccd819835d2
DTSTAMP:20260423T123447Z
DESCRIPTION:Join us a special all ages story time!\n\nIncluded with Museum 
 Admission or Membership.
DTSTART;TZID=America/Denver:20230615T140000
DTEND;TZID=America/Denver:20230615T150000
LOCATION:
SUMMARY:Storytime
END:VEVENT
END:VCALENDAR
