BEGIN:VCALENDAR
VERSION:2.0
PRODID:-//wowchildrensmuseum.org//NONSGML kigkonsult.se iCalcreator 2.30.10
 //
CALSCALE:GREGORIAN
METHOD:PUBLISH
UID:717b32b5-f15a-4df6-a73f-3ad12baadabe
X-WR-CALDESC:Join us for Sensory Friendly Playtime\, a special Museum progr
 am for children with autism spectrum or sensory processing disorders. WOW!
  will limit capacity\, turn down sounds and lights\, and provide adaptive 
 equipment to offer a safe and fun experience for all! \n\nAdmission is $1 
 for participants thanks to WOW!'s donor-supported Play for All Initiative.
X-WR-RELCALID:6f0d917f2764913760e7e3751b67fc53
X-WR-TIMEZONE:America/Denver
BEGIN:VTIMEZONE
TZID:America/Denver
BEGIN:STANDARD
TZNAME:MST
DTSTART:20221106T020000
TZOFFSETFROM:-0600
TZOFFSETTO:-0700
RDATE:20231105T020000
RDATE:20241103T020000
END:STANDARD
BEGIN:DAYLIGHT
TZNAME:MDT
DTSTART:20230312T020000
TZOFFSETFROM:-0700
TZOFFSETTO:-0600
RDATE:20240310T020000
END:DAYLIGHT
END:VTIMEZONE
BEGIN:VEVENT
UID:1276ed35-3e7c-40fc-a662-6c0fd9520721
DTSTAMP:20260423T143056Z
DESCRIPTION:Join us for Sensory Friendly Playtime\, a special Museum progra
 m for children with autism spectrum or sensory processing disorders. WOW! 
 will limit capacity\, turn down sounds and lights\, and provide adaptive e
 quipment to offer a safe and fun experience for all! \n\nAdmission is $1 f
 or participants thanks to WOW!'s donor-supported Play for All Initiative.
DTSTART;TZID=America/Denver:20230507T100000
DTEND;TZID=America/Denver:20230507T120000
LOCATION:
SUMMARY:Sensory Friendly Playtime
END:VEVENT
END:VCALENDAR
