BEGIN:VCALENDAR
VERSION:2.0
PRODID:-//wowchildrensmuseum.org//NONSGML kigkonsult.se iCalcreator 2.30.10
 //
CALSCALE:GREGORIAN
METHOD:PUBLISH
UID:71da0b23-7247-45cf-a023-00a83c34faa9
X-WR-CALDESC:To serve the preferences of all of our visitors\, masks will b
 e required of everyone ages 3+ between 9:00am-12:00pm Wednesdays. Masks ar
 e not required the rest of the week.
X-WR-RELCALID:f1a85772cae99878560c436d98aede98
X-WR-TIMEZONE:America/Denver
BEGIN:VTIMEZONE
TZID:America/Denver
BEGIN:STANDARD
TZNAME:MST
DTSTART:20221106T020000
TZOFFSETFROM:-0600
TZOFFSETTO:-0700
RDATE:20231105T020000
END:STANDARD
BEGIN:DAYLIGHT
TZNAME:MDT
DTSTART:20230312T020000
TZOFFSETFROM:-0700
TZOFFSETTO:-0600
RDATE:20240310T020000
END:DAYLIGHT
END:VTIMEZONE
BEGIN:VEVENT
UID:7a66a632-7bdc-4f7a-bd1b-4d01b6879763
DTSTAMP:20260423T144404Z
DESCRIPTION:To serve the preferences of all of our visitors\, masks will be
  required of everyone ages 3+ between 9:00am-12:00pm Wednesdays. Masks are
  not required the rest of the week.
DTSTART;TZID=America/Denver:20230503T090000
DTEND;TZID=America/Denver:20230503T120000
LOCATION:
SUMMARY:Masks Required Morning
END:VEVENT
END:VCALENDAR
