BEGIN:VCALENDAR
VERSION:2.0
PRODID:-//wowchildrensmuseum.org//NONSGML kigkonsult.se iCalcreator 2.30.10
 //
CALSCALE:GREGORIAN
METHOD:PUBLISH
UID:c03597e1-c8ac-4baa-97df-6e495533092d
X-WR-CALDESC:Join us in the Create Space for a special all ages craft time!
 \n\nIncluded with Museum Admission or Membership.
X-WR-RELCALID:0c23c5814b3244204e7985a147e542eb
X-WR-TIMEZONE:America/Denver
BEGIN:VTIMEZONE
TZID:America/Denver
BEGIN:STANDARD
TZNAME:MST
DTSTART:20221106T020000
TZOFFSETFROM:-0600
TZOFFSETTO:-0700
RDATE:20231105T020000
END:STANDARD
BEGIN:DAYLIGHT
TZNAME:MDT
DTSTART:20230312T020000
TZOFFSETFROM:-0700
TZOFFSETTO:-0600
RDATE:20240310T020000
END:DAYLIGHT
END:VTIMEZONE
BEGIN:VEVENT
UID:d381d2a2-3ec6-460d-965d-6bdd88671be1
DTSTAMP:20260423T155939Z
DESCRIPTION:Join us in the Create Space for a special all ages craft time!
 \n\nIncluded with Museum Admission or Membership.
DTSTART;TZID=America/Denver:20230425T140000
DTEND;TZID=America/Denver:20230425T150000
LOCATION:
SUMMARY:Let's Craft Together!
END:VEVENT
END:VCALENDAR
