BEGIN:VCALENDAR
VERSION:2.0
PRODID:-//wowchildrensmuseum.org//NONSGML kigkonsult.se iCalcreator 2.30.10
 //
CALSCALE:GREGORIAN
METHOD:PUBLISH
UID:b61511de-4a5d-4204-9791-ae0214a4b98d
X-WR-CALDESC:Join us in the Create Space for a special all ages craft time!
 \n\nIncluded with Museum Admission or Membership.
X-WR-RELCALID:381f0c1b694fce01f6bca2d8a2816be8
X-WR-TIMEZONE:America/Denver
BEGIN:VTIMEZONE
TZID:America/Denver
BEGIN:STANDARD
TZNAME:MST
DTSTART:20221106T020000
TZOFFSETFROM:-0600
TZOFFSETTO:-0700
RDATE:20231105T020000
END:STANDARD
BEGIN:DAYLIGHT
TZNAME:MDT
DTSTART:20230312T020000
TZOFFSETFROM:-0700
TZOFFSETTO:-0600
RDATE:20240310T020000
END:DAYLIGHT
END:VTIMEZONE
BEGIN:VEVENT
UID:85c5e3da-c791-4594-a4f2-ab8e482ff3c0
DTSTAMP:20260423T155941Z
DESCRIPTION:Join us in the Create Space for a special all ages craft time!
 \n\nIncluded with Museum Admission or Membership.
DTSTART;TZID=America/Denver:20230411T140000
DTEND;TZID=America/Denver:20230411T150000
LOCATION:
SUMMARY:Let's Craft Together!
END:VEVENT
END:VCALENDAR
