BEGIN:VCALENDAR
VERSION:2.0
PRODID:-//wowchildrensmuseum.org//NONSGML kigkonsult.se iCalcreator 2.30.10
 //
CALSCALE:GREGORIAN
METHOD:PUBLISH
UID:7d707ed0-4fbb-41fc-9cbb-9d008b774cbb
X-WR-CALDESC:Join us in the Create Space for a special all ages craft time!
 \n\nIncluded with Museum Admission or Membership.
X-WR-RELCALID:10f2e941eaecadf6e704d03bc374d1dc
X-WR-TIMEZONE:America/Denver
BEGIN:VTIMEZONE
TZID:America/Denver
BEGIN:STANDARD
TZNAME:MST
DTSTART:20221106T020000
TZOFFSETFROM:-0600
TZOFFSETTO:-0700
RDATE:20231105T020000
END:STANDARD
BEGIN:DAYLIGHT
TZNAME:MDT
DTSTART:20220313T020000
TZOFFSETFROM:-0700
TZOFFSETTO:-0600
RDATE:20230312T020000
RDATE:20240310T020000
END:DAYLIGHT
END:VTIMEZONE
BEGIN:VEVENT
UID:56c0a4b1-5b42-438e-ab4b-562515c79ab6
DTSTAMP:20260423T190333Z
DESCRIPTION:Join us in the Create Space for a special all ages craft time!
 \n\nIncluded with Museum Admission or Membership.
DTSTART;TZID=America/Denver:20230214T140000
DTEND;TZID=America/Denver:20230214T150000
LOCATION:
SUMMARY:Let's Craft Together!
END:VEVENT
END:VCALENDAR
