BEGIN:VCALENDAR
VERSION:2.0
PRODID:-//wowchildrensmuseum.org//NONSGML kigkonsult.se iCalcreator 2.30.10
 //
CALSCALE:GREGORIAN
METHOD:PUBLISH
UID:052326f3-4510-4ded-a6c7-24b1aca62309
X-WR-CALDESC:Join us in the Create Space for a special all ages craft time!
 \n\nIncluded with Museum Admission or Membership.
X-WR-RELCALID:33ce83fb7b23d2d645cf46465c7ddf32
X-WR-TIMEZONE:America/Denver
BEGIN:VTIMEZONE
TZID:America/Denver
BEGIN:STANDARD
TZNAME:MST
DTSTART:20221106T020000
TZOFFSETFROM:-0600
TZOFFSETTO:-0700
RDATE:20231105T020000
END:STANDARD
BEGIN:DAYLIGHT
TZNAME:MDT
DTSTART:20220313T020000
TZOFFSETFROM:-0700
TZOFFSETTO:-0600
RDATE:20230312T020000
RDATE:20240310T020000
END:DAYLIGHT
END:VTIMEZONE
BEGIN:VEVENT
UID:aaa3b9d2-664b-4f2a-b4a4-c9d833f9d09d
DTSTAMP:20260423T185633Z
DESCRIPTION:Join us in the Create Space for a special all ages craft time!
 \n\nIncluded with Museum Admission or Membership.
DTSTART;TZID=America/Denver:20230207T140000
DTEND;TZID=America/Denver:20230207T150000
LOCATION:
SUMMARY:Let's Craft Together!
END:VEVENT
END:VCALENDAR
