BEGIN:VCALENDAR
VERSION:2.0
PRODID:-//wowchildrensmuseum.org//NONSGML kigkonsult.se iCalcreator 2.30.10
 //
CALSCALE:GREGORIAN
METHOD:PUBLISH
UID:bd37001b-9a05-4a0b-9e22-ecc3f53ac3a2
X-WR-CALDESC:
X-WR-RELCALID:e20e2896bf3bf281672c756ef1ca6e1d
X-WR-TIMEZONE:America/Chicago
BEGIN:VTIMEZONE
TZID:America/Chicago
BEGIN:STANDARD
TZNAME:CST
DTSTART:20221106T020000
TZOFFSETFROM:-0500
TZOFFSETTO:-0600
RDATE:20231105T020000
END:STANDARD
BEGIN:DAYLIGHT
TZNAME:CDT
DTSTART:20220313T020000
TZOFFSETFROM:-0600
TZOFFSETTO:-0500
RDATE:20230312T020000
RDATE:20240310T020000
END:DAYLIGHT
END:VTIMEZONE
BEGIN:VEVENT
UID:eea88db3-ad38-4578-b932-ac88a9e92baf
DTSTAMP:20260423T200833Z
DESCRIPTION:
DTSTART;TZID=America/Chicago:20230117T123000
DTEND;TZID=America/Chicago:20230117T133000
LOCATION:
SUMMARY:Test
END:VEVENT
END:VCALENDAR
